Package: sampleClassifier Version: 1.35.0 Command: /Library/Frameworks/R.framework/Resources/bin/R CMD INSTALL sampleClassifier StartedAt: 2025-11-19 15:11:00 -0500 (Wed, 19 Nov 2025) EndedAt: 2025-11-19 15:11:07 -0500 (Wed, 19 Nov 2025) EllapsedTime: 7.4 seconds RetCode: 0 Status: OK