Package: sampleClassifier Version: 1.35.0 Command: /Library/Frameworks/R.framework/Resources/bin/R CMD build --keep-empty-dirs --no-resave-data sampleClassifier StartedAt: 2025-11-19 18:32:14 -0500 (Wed, 19 Nov 2025) EndedAt: 2025-11-19 18:34:48 -0500 (Wed, 19 Nov 2025) EllapsedTime: 154.9 seconds RetCode: 0 Status: OK PackageFile: sampleClassifier_1.35.0.tar.gz PackageFileSize: 238.1 KiB