Package: sampleClassifier Version: 1.35.0 Command: /Library/Frameworks/R.framework/Resources/bin/R CMD INSTALL sampleClassifier StartedAt: 2025-11-19 15:31:50 -0500 (Wed, 19 Nov 2025) EndedAt: 2025-11-19 15:32:14 -0500 (Wed, 19 Nov 2025) EllapsedTime: 23.1 seconds RetCode: 0 Status: OK