Package: sampleClassifier Version: 1.35.0 Command: /home/biocbuild/bbs-3.23-bioc/R/bin/R CMD build --keep-empty-dirs --no-resave-data sampleClassifier StartedAt: 2025-11-19 19:48:35 -0500 (Wed, 19 Nov 2025) EndedAt: 2025-11-19 19:50:37 -0500 (Wed, 19 Nov 2025) EllapsedTime: 122.1 seconds RetCode: 0 Status: OK PackageFile: sampleClassifier_1.35.0.tar.gz PackageFileSize: 239 KiB