Package: sampleClassifier Version: 1.35.0 Command: /home/biocbuild/bbs-3.23-bioc/R/bin/R CMD INSTALL sampleClassifier StartedAt: 2025-11-19 15:33:36 -0500 (Wed, 19 Nov 2025) EndedAt: 2025-11-19 15:33:51 -0500 (Wed, 19 Nov 2025) EllapsedTime: 15.6 seconds RetCode: 0 Status: OK