Package: scBubbletree Version: 1.13.0 Maintainer: Simo Kitanovski MaintainerEmail: simokitanovski at gmail.com git_url: https://git.bioconductor.org/packages/scBubbletree git_branch: devel git_last_commit: 7ad7e1e git_last_commit_date: 2025-10-29 11:19:00 -0500 (Wed, 29 Oct 2025)