Package: scBubbletree Version: 1.13.0 Command: rm -rf scBubbletree.buildbin-libdir && mkdir scBubbletree.buildbin-libdir && /Users/biocbuild/BBS/utils/build-universal.sh scBubbletree_1.13.0.tar.gz /Library/Frameworks/R.framework/Resources/bin/R scBubbletree.buildbin-libdir StartedAt: 2025-11-20 23:50:50 -0500 (Thu, 20 Nov 2025) EndedAt: 2025-11-20 23:51:00 -0500 (Thu, 20 Nov 2025) EllapsedTime: 10.2 seconds RetCode: 0 Status: OK PackageFile: scBubbletree_1.13.0.tgz PackageFileSize: 2.584 MiB