Package: scBubbletree Version: 1.13.0 Command: /Library/Frameworks/R.framework/Resources/bin/R CMD build --keep-empty-dirs --no-resave-data scBubbletree StartedAt: 2025-11-19 17:33:21 -0500 (Wed, 19 Nov 2025) EndedAt: 2025-11-19 17:36:03 -0500 (Wed, 19 Nov 2025) EllapsedTime: 161.7 seconds RetCode: 0 Status: OK PackageFile: scBubbletree_1.13.0.tar.gz PackageFileSize: 4.422 MiB