Package: scBubbletree Version: 1.13.0 Command: rm -rf scBubbletree.buildbin-libdir && mkdir scBubbletree.buildbin-libdir && /Users/biocbuild/BBS/utils/build-universal.sh scBubbletree_1.13.0.tar.gz /Library/Frameworks/R.framework/Resources/bin/R scBubbletree.buildbin-libdir StartedAt: 2025-11-21 01:55:16 -0500 (Fri, 21 Nov 2025) EndedAt: 2025-11-21 01:55:49 -0500 (Fri, 21 Nov 2025) EllapsedTime: 33.4 seconds RetCode: 0 Status: OK PackageFile: scBubbletree_1.13.0.tgz PackageFileSize: 2.581 MiB