Package: scBubbletree Version: 1.13.0 Command: /Library/Frameworks/R.framework/Resources/bin/R CMD build --keep-empty-dirs --no-resave-data scBubbletree StartedAt: 2025-11-19 18:34:02 -0500 (Wed, 19 Nov 2025) EndedAt: 2025-11-19 18:40:23 -0500 (Wed, 19 Nov 2025) EllapsedTime: 381.0 seconds RetCode: 0 Status: OK PackageFile: scBubbletree_1.13.0.tar.gz PackageFileSize: 4.421 MiB