Package: scBubbletree Version: 1.13.0 Command: /home/biocbuild/bbs-3.23-bioc/R/bin/R CMD build --keep-empty-dirs --no-resave-data scBubbletree StartedAt: 2025-11-19 19:51:38 -0500 (Wed, 19 Nov 2025) EndedAt: 2025-11-19 19:56:47 -0500 (Wed, 19 Nov 2025) EllapsedTime: 309.3 seconds RetCode: 0 Status: OK PackageFile: scBubbletree_1.13.0.tar.gz PackageFileSize: 4.645 MiB