Package: scClassify Version: 1.23.0 Command: rm -rf scClassify.buildbin-libdir && mkdir scClassify.buildbin-libdir && /Users/biocbuild/BBS/utils/build-universal.sh scClassify_1.23.0.tar.gz /Library/Frameworks/R.framework/Resources/bin/R scClassify.buildbin-libdir StartedAt: 2025-11-18 23:58:16 -0500 (Tue, 18 Nov 2025) EndedAt: 2025-11-18 23:58:34 -0500 (Tue, 18 Nov 2025) EllapsedTime: 18.3 seconds RetCode: 0 Status: OK PackageFile: scClassify_1.23.0.tgz PackageFileSize: 3.338 MiB