Package: scClassify Version: 1.23.0 Command: /Library/Frameworks/R.framework/Resources/bin/R CMD build --keep-empty-dirs --no-resave-data scClassify StartedAt: 2025-11-18 17:43:24 -0500 (Tue, 18 Nov 2025) EndedAt: 2025-11-18 17:44:17 -0500 (Tue, 18 Nov 2025) EllapsedTime: 53.6 seconds RetCode: 0 Status: OK PackageFile: scClassify_1.23.0.tar.gz PackageFileSize: 2.91 MiB