Package: scClassify Version: 1.23.0 Command: rm -rf scClassify.buildbin-libdir && mkdir scClassify.buildbin-libdir && /Users/biocbuild/BBS/utils/build-universal.sh scClassify_1.23.0.tar.gz /Library/Frameworks/R.framework/Resources/bin/R scClassify.buildbin-libdir StartedAt: 2025-11-20 01:54:41 -0500 (Thu, 20 Nov 2025) EndedAt: 2025-11-20 01:55:35 -0500 (Thu, 20 Nov 2025) EllapsedTime: 54.4 seconds RetCode: 0 Status: OK PackageFile: scClassify_1.23.0.tgz PackageFileSize: 3.336 MiB