Package: scClassify Version: 1.23.0 Command: /Library/Frameworks/R.framework/Resources/bin/R CMD build --keep-empty-dirs --no-resave-data scClassify StartedAt: 2025-11-19 18:34:08 -0500 (Wed, 19 Nov 2025) EndedAt: 2025-11-19 18:36:18 -0500 (Wed, 19 Nov 2025) EllapsedTime: 130.2 seconds RetCode: 0 Status: OK PackageFile: scClassify_1.23.0.tar.gz PackageFileSize: 2.91 MiB