Package: scClassify Version: 1.23.0 Command: /Library/Frameworks/R.framework/Resources/bin/R CMD INSTALL scClassify StartedAt: 2025-11-19 15:32:47 -0500 (Wed, 19 Nov 2025) EndedAt: 2025-11-19 15:33:37 -0500 (Wed, 19 Nov 2025) EllapsedTime: 49.9 seconds RetCode: 0 Status: OK