Package: scDDboost Version: 1.13.0 Command: rm -rf scDDboost.buildbin-libdir && mkdir scDDboost.buildbin-libdir && /Users/biocbuild/BBS/utils/build-universal.sh scDDboost_1.13.0.tar.gz /Library/Frameworks/R.framework/Resources/bin/R scDDboost.buildbin-libdir StartedAt: 2025-11-18 23:58:25 -0500 (Tue, 18 Nov 2025) EndedAt: 2025-11-18 23:58:52 -0500 (Tue, 18 Nov 2025) EllapsedTime: 26.5 seconds RetCode: 0 Status: OK PackageFile: scDDboost_1.13.0.tgz PackageFileSize: 975.8 KiB