Package: scDDboost Version: 1.13.0 Command: /Library/Frameworks/R.framework/Resources/bin/R CMD build --keep-empty-dirs --no-resave-data scDDboost StartedAt: 2025-11-19 17:33:57 -0500 (Wed, 19 Nov 2025) EndedAt: 2025-11-19 17:34:38 -0500 (Wed, 19 Nov 2025) EllapsedTime: 41.4 seconds RetCode: 0 Status: OK PackageFile: scDDboost_1.13.0.tar.gz PackageFileSize: 853.3 KiB