Package: scDDboost Version: 1.13.0 Command: /Library/Frameworks/R.framework/Resources/bin/R CMD INSTALL scDDboost StartedAt: 2025-11-19 15:13:51 -0500 (Wed, 19 Nov 2025) EndedAt: 2025-11-19 15:14:11 -0500 (Wed, 19 Nov 2025) EllapsedTime: 20.0 seconds RetCode: 0 Status: OK