Package: scDDboost Version: 1.13.0 Command: rm -rf scDDboost.buildbin-libdir && mkdir scDDboost.buildbin-libdir && /Users/biocbuild/BBS/utils/build-universal.sh scDDboost_1.13.0.tar.gz /Library/Frameworks/R.framework/Resources/bin/R scDDboost.buildbin-libdir StartedAt: 2025-11-20 01:54:47 -0500 (Thu, 20 Nov 2025) EndedAt: 2025-11-20 01:56:10 -0500 (Thu, 20 Nov 2025) EllapsedTime: 83.2 seconds RetCode: 0 Status: OK PackageFile: scDDboost_1.13.0.tgz PackageFileSize: 994.5 KiB