Package: scDDboost Version: 1.13.0 Command: /Library/Frameworks/R.framework/Resources/bin/R CMD INSTALL scDDboost StartedAt: 2025-11-19 15:26:31 -0500 (Wed, 19 Nov 2025) EndedAt: 2025-11-19 15:27:47 -0500 (Wed, 19 Nov 2025) EllapsedTime: 75.2 seconds RetCode: 0 Status: OK