Package: scDDboost Version: 1.13.0 Command: /home/biocbuild/bbs-3.23-bioc/R/bin/R CMD build --keep-empty-dirs --no-resave-data scDDboost StartedAt: 2025-11-20 19:50:14 -0500 (Thu, 20 Nov 2025) EndedAt: 2025-11-20 19:51:51 -0500 (Thu, 20 Nov 2025) EllapsedTime: 96.1 seconds RetCode: 0 Status: OK PackageFile: scDDboost_1.13.0.tar.gz PackageFileSize: 817.6 KiB