Package: scDataviz Version: 1.21.0 Command: /Library/Frameworks/R.framework/Resources/bin/R CMD INSTALL scDataviz StartedAt: 2025-11-19 15:20:18 -0500 (Wed, 19 Nov 2025) EndedAt: 2025-11-19 15:20:33 -0500 (Wed, 19 Nov 2025) EllapsedTime: 15.5 seconds RetCode: 0 Status: OK