Package: scDataviz Version: 1.21.0 Command: /home/biocbuild/bbs-3.23-bioc/R/bin/R CMD build --keep-empty-dirs --no-resave-data scDataviz StartedAt: 2025-11-19 19:51:59 -0500 (Wed, 19 Nov 2025) EndedAt: 2025-11-19 19:56:01 -0500 (Wed, 19 Nov 2025) EllapsedTime: 242.3 seconds RetCode: 0 Status: OK PackageFile: scDataviz_1.21.0.tar.gz PackageFileSize: 7.481 MiB