Package: scDataviz Version: 1.21.0 Command: /home/biocbuild/bbs-3.23-bioc/R/bin/R CMD INSTALL scDataviz StartedAt: 2025-11-19 15:38:33 -0500 (Wed, 19 Nov 2025) EndedAt: 2025-11-19 15:39:11 -0500 (Wed, 19 Nov 2025) EllapsedTime: 37.3 seconds RetCode: 0 Status: OK