Package: scDesign3 Version: 1.9.0 Command: /Library/Frameworks/R.framework/Resources/bin/R CMD build --keep-empty-dirs --no-resave-data scDesign3 StartedAt: 2025-11-18 17:43:56 -0500 (Tue, 18 Nov 2025) EndedAt: 2025-11-18 17:44:32 -0500 (Tue, 18 Nov 2025) EllapsedTime: 36.4 seconds RetCode: 0 Status: OK PackageFile: scDesign3_1.9.0.tar.gz PackageFileSize: 1.094 MiB