Package: scDesign3 Version: 1.9.0 Command: /Library/Frameworks/R.framework/Resources/bin/R CMD INSTALL scDesign3 StartedAt: 2025-11-18 15:30:23 -0500 (Tue, 18 Nov 2025) EndedAt: 2025-11-18 15:30:27 -0500 (Tue, 18 Nov 2025) EllapsedTime: 4.2 seconds RetCode: 0 Status: OK