Package: scDesign3 Version: 1.9.0 Command: /Library/Frameworks/R.framework/Resources/bin/R CMD INSTALL scDesign3 StartedAt: 2025-11-24 15:38:12 -0500 (Mon, 24 Nov 2025) EndedAt: 2025-11-24 15:38:29 -0500 (Mon, 24 Nov 2025) EllapsedTime: 16.2 seconds RetCode: 0 Status: OK