Package: scDotPlot Version: 1.5.0 Command: /Library/Frameworks/R.framework/Resources/bin/R CMD INSTALL scDotPlot StartedAt: 2025-11-18 15:39:38 -0500 (Tue, 18 Nov 2025) EndedAt: 2025-11-18 15:39:53 -0500 (Tue, 18 Nov 2025) EllapsedTime: 15.6 seconds RetCode: 0 Status: OK