Package: scDotPlot Version: 1.5.0 Command: rm -rf scDotPlot.buildbin-libdir && mkdir scDotPlot.buildbin-libdir && /Users/biocbuild/BBS/utils/build-universal.sh scDotPlot_1.5.0.tar.gz /Library/Frameworks/R.framework/Resources/bin/R scDotPlot.buildbin-libdir StartedAt: 2025-11-25 01:53:50 -0500 (Tue, 25 Nov 2025) EndedAt: 2025-11-25 01:54:52 -0500 (Tue, 25 Nov 2025) EllapsedTime: 62.1 seconds RetCode: 0 Status: OK PackageFile: scDotPlot_1.5.0.tgz PackageFileSize: 2.002 MiB