Package: scDotPlot Version: 1.5.0 Command: /Library/Frameworks/R.framework/Resources/bin/R CMD INSTALL scDotPlot StartedAt: 2025-11-23 15:54:52 -0500 (Sun, 23 Nov 2025) EndedAt: 2025-11-23 15:55:48 -0500 (Sun, 23 Nov 2025) EllapsedTime: 56.5 seconds RetCode: 0 Status: OK