Package: scFeatures Version: 1.11.0 Command: /Library/Frameworks/R.framework/Resources/bin/R CMD build --keep-empty-dirs --no-resave-data scFeatures StartedAt: 2025-11-18 17:44:38 -0500 (Tue, 18 Nov 2025) EndedAt: 2025-11-18 17:45:40 -0500 (Tue, 18 Nov 2025) EllapsedTime: 61.7 seconds RetCode: 0 Status: OK PackageFile: scFeatures_1.11.0.tar.gz PackageFileSize: 2.927 MiB