Package: scFeatures Version: 1.11.0 Command: /Library/Frameworks/R.framework/Resources/bin/R CMD INSTALL scFeatures StartedAt: 2025-11-18 15:42:25 -0500 (Tue, 18 Nov 2025) EndedAt: 2025-11-18 15:42:57 -0500 (Tue, 18 Nov 2025) EllapsedTime: 32.1 seconds RetCode: 0 Status: OK