Package: scFeatures Version: 1.11.0 Command: /Library/Frameworks/R.framework/Resources/bin/R CMD build --keep-empty-dirs --no-resave-data scFeatures StartedAt: 2025-11-20 18:34:37 -0500 (Thu, 20 Nov 2025) EndedAt: 2025-11-20 18:37:34 -0500 (Thu, 20 Nov 2025) EllapsedTime: 177.6 seconds RetCode: 0 Status: OK PackageFile: scFeatures_1.11.0.tar.gz PackageFileSize: 2.929 MiB