Package: scFeatures Version: 1.11.0 Command: /Library/Frameworks/R.framework/Resources/bin/R CMD INSTALL scFeatures StartedAt: 2025-11-20 15:56:29 -0500 (Thu, 20 Nov 2025) EndedAt: 2025-11-20 15:57:33 -0500 (Thu, 20 Nov 2025) EllapsedTime: 63.9 seconds RetCode: 0 Status: OK