Package: scMultiSim Version: 1.7.0 Command: rm -rf scMultiSim.buildbin-libdir && mkdir scMultiSim.buildbin-libdir && /Users/biocbuild/BBS/utils/build-universal.sh scMultiSim_1.7.0.tar.gz /Library/Frameworks/R.framework/Resources/bin/R scMultiSim.buildbin-libdir StartedAt: 2025-11-19 23:52:08 -0500 (Wed, 19 Nov 2025) EndedAt: 2025-11-19 23:52:23 -0500 (Wed, 19 Nov 2025) EllapsedTime: 14.3 seconds RetCode: 0 Status: OK PackageFile: scMultiSim_1.7.0.tgz PackageFileSize: 5.774 MiB