Package: scRNAseqApp Version: 1.11.0 Command: /Library/Frameworks/R.framework/Resources/bin/R CMD INSTALL scRNAseqApp StartedAt: 2025-11-18 15:26:53 -0500 (Tue, 18 Nov 2025) EndedAt: 2025-11-18 15:27:18 -0500 (Tue, 18 Nov 2025) EllapsedTime: 25.2 seconds RetCode: 0 Status: OK