Package: scRNAseqApp Version: 1.11.0 Command: /Library/Frameworks/R.framework/Resources/bin/R CMD build --keep-empty-dirs --no-resave-data scRNAseqApp StartedAt: 2025-11-21 18:38:17 -0500 (Fri, 21 Nov 2025) EndedAt: 2025-11-21 18:40:04 -0500 (Fri, 21 Nov 2025) EllapsedTime: 107.3 seconds RetCode: 0 Status: OK PackageFile: scRNAseqApp_1.11.0.tar.gz PackageFileSize: 2.216 MiB