Package: scRNAseqApp Version: 1.11.0 Command: /Library/Frameworks/R.framework/Resources/bin/R CMD INSTALL scRNAseqApp StartedAt: 2025-11-21 15:33:33 -0500 (Fri, 21 Nov 2025) EndedAt: 2025-11-21 15:35:01 -0500 (Fri, 21 Nov 2025) EllapsedTime: 88.1 seconds RetCode: 0 Status: OK