Package: scReClassify Version: 1.17.0 Command: /Library/Frameworks/R.framework/Resources/bin/R CMD build --keep-empty-dirs --no-resave-data scReClassify StartedAt: 2025-11-19 17:36:55 -0500 (Wed, 19 Nov 2025) EndedAt: 2025-11-19 17:37:57 -0500 (Wed, 19 Nov 2025) EllapsedTime: 62.7 seconds RetCode: 0 Status: OK PackageFile: scReClassify_1.17.0.tar.gz PackageFileSize: 2.469 MiB