Package: scReClassify Version: 1.17.0 Command: /Library/Frameworks/R.framework/Resources/bin/R CMD INSTALL scReClassify StartedAt: 2025-11-18 15:42:21 -0500 (Tue, 18 Nov 2025) EndedAt: 2025-11-18 15:42:29 -0500 (Tue, 18 Nov 2025) EllapsedTime: 8.2 seconds RetCode: 0 Status: OK