Package: scReClassify Version: 1.17.0 Command: rm -rf scReClassify.buildbin-libdir && mkdir scReClassify.buildbin-libdir && /Users/biocbuild/BBS/utils/build-universal.sh scReClassify_1.17.0.tar.gz /Library/Frameworks/R.framework/Resources/bin/R scReClassify.buildbin-libdir StartedAt: 2025-11-20 01:55:42 -0500 (Thu, 20 Nov 2025) EndedAt: 2025-11-20 01:56:15 -0500 (Thu, 20 Nov 2025) EllapsedTime: 32.3 seconds RetCode: 0 Status: OK PackageFile: scReClassify_1.17.0.tgz PackageFileSize: 2.368 MiB