Package: scReClassify Version: 1.17.0 Command: /Library/Frameworks/R.framework/Resources/bin/R CMD INSTALL scReClassify StartedAt: 2025-11-18 15:54:19 -0500 (Tue, 18 Nov 2025) EndedAt: 2025-11-18 15:54:48 -0500 (Tue, 18 Nov 2025) EllapsedTime: 28.4 seconds RetCode: 0 Status: OK