Package: scReClassify Version: 1.17.0 Command: /home/biocbuild/bbs-3.23-bioc/R/bin/R CMD INSTALL scReClassify StartedAt: 2025-11-18 16:53:11 -0500 (Tue, 18 Nov 2025) EndedAt: 2025-11-18 16:53:32 -0500 (Tue, 18 Nov 2025) EllapsedTime: 20.8 seconds RetCode: 0 Status: OK