Package: scTreeViz Version: 1.17.0 Command: /Library/Frameworks/R.framework/Resources/bin/R CMD build --keep-empty-dirs --no-resave-data scTreeViz StartedAt: 2025-11-19 17:38:18 -0500 (Wed, 19 Nov 2025) EndedAt: 2025-11-19 17:39:22 -0500 (Wed, 19 Nov 2025) EllapsedTime: 64.7 seconds RetCode: 0 Status: OK PackageFile: scTreeViz_1.17.0.tar.gz PackageFileSize: 2.299 MiB