Package: scTreeViz Version: 1.17.0 Command: /Library/Frameworks/R.framework/Resources/bin/R CMD INSTALL scTreeViz StartedAt: 2025-11-18 15:39:58 -0500 (Tue, 18 Nov 2025) EndedAt: 2025-11-18 15:40:33 -0500 (Tue, 18 Nov 2025) EllapsedTime: 35.1 seconds RetCode: 0 Status: OK