Package: scTreeViz Version: 1.17.0 Command: rm -rf scTreeViz.buildbin-libdir && mkdir scTreeViz.buildbin-libdir && /Users/biocbuild/BBS/utils/build-universal.sh scTreeViz_1.17.0.tar.gz /Library/Frameworks/R.framework/Resources/bin/R scTreeViz.buildbin-libdir StartedAt: 2025-11-20 01:56:01 -0500 (Thu, 20 Nov 2025) EndedAt: 2025-11-20 01:57:36 -0500 (Thu, 20 Nov 2025) EllapsedTime: 95.5 seconds RetCode: 0 Status: OK PackageFile: scTreeViz_1.17.0.tgz PackageFileSize: 2.616 MiB