Package: scTreeViz Version: 1.17.0 Command: /Library/Frameworks/R.framework/Resources/bin/R CMD INSTALL scTreeViz StartedAt: 2025-11-19 15:54:43 -0500 (Wed, 19 Nov 2025) EndedAt: 2025-11-19 15:56:16 -0500 (Wed, 19 Nov 2025) EllapsedTime: 92.3 seconds RetCode: 0 Status: OK