Package: scTreeViz Version: 1.17.0 Command: /home/biocbuild/bbs-3.23-bioc/R/bin/R CMD build --keep-empty-dirs --no-resave-data scTreeViz StartedAt: 2025-11-24 19:59:53 -0500 (Mon, 24 Nov 2025) EndedAt: 2025-11-24 20:02:26 -0500 (Mon, 24 Nov 2025) EllapsedTime: 153.1 seconds RetCode: 0 Status: OK PackageFile: scTreeViz_1.17.0.tar.gz PackageFileSize: 2.298 MiB