Package: scTreeViz Version: 1.17.0 Command: /home/biocbuild/bbs-3.23-bioc/R/bin/R CMD INSTALL scTreeViz StartedAt: 2025-11-24 15:55:44 -0500 (Mon, 24 Nov 2025) EndedAt: 2025-11-24 15:56:54 -0500 (Mon, 24 Nov 2025) EllapsedTime: 69.7 seconds RetCode: 0 Status: OK